BEGIN:VCALENDAR
VERSION:2.0
PRODID:-//DA Bhubaneswar - ECPv6.0.12//NONSGML v1.0//EN
CALSCALE:GREGORIAN
METHOD:PUBLISH
X-WR-CALNAME:DA Bhubaneswar
X-ORIGINAL-URL:https://bhubaneswar.darshanacademy.org
X-WR-CALDESC:Events for DA Bhubaneswar
REFRESH-INTERVAL;VALUE=DURATION:PT1H
X-Robots-Tag:noindex
X-PUBLISHED-TTL:PT1H
BEGIN:VTIMEZONE
TZID:America/Los_Angeles
BEGIN:DAYLIGHT
TZOFFSETFROM:-0800
TZOFFSETTO:-0700
TZNAME:PDT
DTSTART:20230312T100000
END:DAYLIGHT
BEGIN:STANDARD
TZOFFSETFROM:-0700
TZOFFSETTO:-0800
TZNAME:PST
DTSTART:20231105T090000
END:STANDARD
BEGIN:DAYLIGHT
TZOFFSETFROM:-0800
TZOFFSETTO:-0700
TZNAME:PDT
DTSTART:20240310T100000
END:DAYLIGHT
BEGIN:STANDARD
TZOFFSETFROM:-0700
TZOFFSETTO:-0800
TZNAME:PST
DTSTART:20241103T090000
END:STANDARD
END:VTIMEZONE
BEGIN:VEVENT
DTSTART;TZID=America/Los_Angeles:20240105T000000
DTEND;TZID=America/Los_Angeles:20240105T000000
DTSTAMP:20260425T210803
CREATED:20230510T024404Z
LAST-MODIFIED:20230510T024404Z
UID:3856-1704412800-1704412800@bhubaneswar.darshanacademy.org
SUMMARY:NATIONAL WORKSHOP ON SPIRITUAL CURRICULUM TEACHING TIPS
DESCRIPTION:
URL:https://bhubaneswar.darshanacademy.org/event/national-workshop-on-spiritual-curriculum-teaching-tips-2/
CATEGORIES:PROFESSIONAL DEVELOPMENT PROGRAMME
END:VEVENT
BEGIN:VEVENT
DTSTART;TZID=America/Los_Angeles:20231227T000000
DTEND;TZID=America/Los_Angeles:20240101T000000
DTSTAMP:20260425T210803
CREATED:20230510T024404Z
LAST-MODIFIED:20230510T024404Z
UID:3855-1703635200-1704067200@bhubaneswar.darshanacademy.org
SUMMARY:WINTER BREAK
DESCRIPTION:
URL:https://bhubaneswar.darshanacademy.org/event/winter-break/
CATEGORIES:HOLIDAYS
END:VEVENT
BEGIN:VEVENT
DTSTART;TZID=America/Los_Angeles:20231225T000000
DTEND;TZID=America/Los_Angeles:20231225T000000
DTSTAMP:20260425T210803
CREATED:20230510T024404Z
LAST-MODIFIED:20230510T024404Z
UID:3854-1703462400-1703462400@bhubaneswar.darshanacademy.org
SUMMARY:CHIRSTMAS
DESCRIPTION:
URL:https://bhubaneswar.darshanacademy.org/event/chirstmas/
CATEGORIES:HOLIDAY
END:VEVENT
BEGIN:VEVENT
DTSTART;TZID=America/Los_Angeles:20231223T000000
DTEND;TZID=America/Los_Angeles:20231223T000000
DTSTAMP:20260425T210803
CREATED:20230510T024401Z
LAST-MODIFIED:20230510T024401Z
UID:3853-1703289600-1703289600@bhubaneswar.darshanacademy.org
SUMMARY:FOURTH SATURDAY
DESCRIPTION:
URL:https://bhubaneswar.darshanacademy.org/event/fourth-saturday-6/
CATEGORIES:HOLIDAY
END:VEVENT
BEGIN:VEVENT
DTSTART;TZID=America/Los_Angeles:20231222T000000
DTEND;TZID=America/Los_Angeles:20231222T000000
DTSTAMP:20260425T210803
CREATED:20230510T024401Z
LAST-MODIFIED:20230510T024401Z
UID:3852-1703203200-1703203200@bhubaneswar.darshanacademy.org
SUMMARY:RED DAY
DESCRIPTION:
URL:https://bhubaneswar.darshanacademy.org/event/red-day/
CATEGORIES:EVENT
END:VEVENT
BEGIN:VEVENT
DTSTART;TZID=America/Los_Angeles:20231216T000000
DTEND;TZID=America/Los_Angeles:20231216T000000
DTSTAMP:20260425T210803
CREATED:20230510T024401Z
LAST-MODIFIED:20230510T024401Z
UID:3851-1702684800-1702684800@bhubaneswar.darshanacademy.org
SUMMARY:PTM
DESCRIPTION:
URL:https://bhubaneswar.darshanacademy.org/event/ptm-5/
CATEGORIES:PTM
END:VEVENT
BEGIN:VEVENT
DTSTART;TZID=America/Los_Angeles:20231215T000000
DTEND;TZID=America/Los_Angeles:20231215T000000
DTSTAMP:20260425T210803
CREATED:20230510T024400Z
LAST-MODIFIED:20230510T024400Z
UID:3850-1702598400-1702598400@bhubaneswar.darshanacademy.org
SUMMARY:RHYMES COMPETITION
DESCRIPTION:
URL:https://bhubaneswar.darshanacademy.org/event/rhymes-competition/
CATEGORIES:EVENT
END:VEVENT
BEGIN:VEVENT
DTSTART;TZID=America/Los_Angeles:20231212T000000
DTEND;TZID=America/Los_Angeles:20231212T000000
DTSTAMP:20260425T210803
CREATED:20230510T024400Z
LAST-MODIFIED:20230510T024400Z
UID:3849-1702339200-1702339200@bhubaneswar.darshanacademy.org
SUMMARY:COLOURING COMPETITION
DESCRIPTION:
URL:https://bhubaneswar.darshanacademy.org/event/colouring-competition/
CATEGORIES:EVENT
END:VEVENT
BEGIN:VEVENT
DTSTART;TZID=America/Los_Angeles:20231209T000000
DTEND;TZID=America/Los_Angeles:20231209T000000
DTSTAMP:20260425T210803
CREATED:20230510T024357Z
LAST-MODIFIED:20230510T024357Z
UID:3848-1702080000-1702080000@bhubaneswar.darshanacademy.org
SUMMARY:INTERNAL WORKSHOP ON METHODOLOGY
DESCRIPTION:
URL:https://bhubaneswar.darshanacademy.org/event/internal-workshop-on-methodology-3/
CATEGORIES:PROFESSIONAL DEVELOPMENT PROGRAMME
END:VEVENT
BEGIN:VEVENT
DTSTART;TZID=America/Los_Angeles:20231208T000000
DTEND;TZID=America/Los_Angeles:20231208T000000
DTSTAMP:20260425T210803
CREATED:20230510T024357Z
LAST-MODIFIED:20230510T024357Z
UID:3847-1701993600-1701993600@bhubaneswar.darshanacademy.org
SUMMARY:EDUCATIONAL MOVIE
DESCRIPTION:
URL:https://bhubaneswar.darshanacademy.org/event/educational-movie/
CATEGORIES:EVENT
END:VEVENT
BEGIN:VEVENT
DTSTART;TZID=America/Los_Angeles:20231201T000000
DTEND;TZID=America/Los_Angeles:20231201T000000
DTSTAMP:20260425T210803
CREATED:20230510T024357Z
LAST-MODIFIED:20230510T024357Z
UID:3846-1701388800-1701388800@bhubaneswar.darshanacademy.org
SUMMARY:VISIT TO PARK
DESCRIPTION:
URL:https://bhubaneswar.darshanacademy.org/event/visit-to-park/
CATEGORIES:EVENT
END:VEVENT
BEGIN:VEVENT
DTSTART;TZID=America/Los_Angeles:20231130T000000
DTEND;TZID=America/Los_Angeles:20231130T000000
DTSTAMP:20260425T210803
CREATED:20230510T024357Z
LAST-MODIFIED:20230510T024357Z
UID:3845-1701302400-1701302400@bhubaneswar.darshanacademy.org
SUMMARY:NATIONAL SPIRITUAL TALK FOR PARENTS
DESCRIPTION:
URL:https://bhubaneswar.darshanacademy.org/event/national-spiritual-talk-for-parents-2/
CATEGORIES:PROFESSIONAL DEVELOPMENT PROGRAMME
END:VEVENT
BEGIN:VEVENT
DTSTART;TZID=America/Los_Angeles:20231127T000000
DTEND;TZID=America/Los_Angeles:20231127T000000
DTSTAMP:20260425T210803
CREATED:20230510T024357Z
LAST-MODIFIED:20230510T024357Z
UID:3844-1701043200-1701043200@bhubaneswar.darshanacademy.org
SUMMARY:RASA PURNIMA
DESCRIPTION:
URL:https://bhubaneswar.darshanacademy.org/event/rasa-purnima/
CATEGORIES:HOLIDAY
END:VEVENT
BEGIN:VEVENT
DTSTART;TZID=America/Los_Angeles:20231125T000000
DTEND;TZID=America/Los_Angeles:20231125T000000
DTSTAMP:20260425T210803
CREATED:20230510T024354Z
LAST-MODIFIED:20230510T024354Z
UID:3843-1700870400-1700870400@bhubaneswar.darshanacademy.org
SUMMARY:FOURTH SATURDAY
DESCRIPTION:
URL:https://bhubaneswar.darshanacademy.org/event/fourth-saturday-5/
CATEGORIES:HOLIDAY
END:VEVENT
BEGIN:VEVENT
DTSTART;TZID=America/Los_Angeles:20231124T000000
DTEND;TZID=America/Los_Angeles:20231124T000000
DTSTAMP:20260425T210803
CREATED:20230510T024354Z
LAST-MODIFIED:20230510T024354Z
UID:3842-1700784000-1700784000@bhubaneswar.darshanacademy.org
SUMMARY:STORY TELLING COMPT(NUR\,LKG\,UKG)
DESCRIPTION:
URL:https://bhubaneswar.darshanacademy.org/event/story-telling-comptnurlkgukg/
CATEGORIES:EVENT
END:VEVENT
BEGIN:VEVENT
DTSTART;TZID=America/Los_Angeles:20231123T000000
DTEND;TZID=America/Los_Angeles:20231123T000000
DTSTAMP:20260425T210803
CREATED:20230510T024354Z
LAST-MODIFIED:20230510T024354Z
UID:3841-1700697600-1700697600@bhubaneswar.darshanacademy.org
SUMMARY:NATIONAL SPIRITUAL TALK FOR PARENTS
DESCRIPTION:
URL:https://bhubaneswar.darshanacademy.org/event/national-spiritual-talk-for-parents/
CATEGORIES:PROFESSIONAL DEVELOPMENT PROGRAMME
END:VEVENT
BEGIN:VEVENT
DTSTART;TZID=America/Los_Angeles:20231118T000000
DTEND;TZID=America/Los_Angeles:20231118T000000
DTSTAMP:20260425T210803
CREATED:20230510T024354Z
LAST-MODIFIED:20230510T024354Z
UID:3840-1700265600-1700265600@bhubaneswar.darshanacademy.org
SUMMARY:INTERNAL SPIRITUAL TALK FOR PARENTS
DESCRIPTION:
URL:https://bhubaneswar.darshanacademy.org/event/internal-spiritual-talk-for-parents/
CATEGORIES:EVENT
END:VEVENT
BEGIN:VEVENT
DTSTART;TZID=America/Los_Angeles:20231114T000000
DTEND;TZID=America/Los_Angeles:20231114T000000
DTSTAMP:20260425T210803
CREATED:20230510T024353Z
LAST-MODIFIED:20230510T024353Z
UID:3839-1699920000-1699920000@bhubaneswar.darshanacademy.org
SUMMARY:CHILDREN'S DAY/ FANCY DRESS COMPETITION
DESCRIPTION:
URL:https://bhubaneswar.darshanacademy.org/event/childrens-day-fancy-dress-competition/
CATEGORIES:EVENT
END:VEVENT
BEGIN:VEVENT
DTSTART;TZID=America/Los_Angeles:20231111T000000
DTEND;TZID=America/Los_Angeles:20231112T000000
DTSTAMP:20260425T210803
CREATED:20230510T024351Z
LAST-MODIFIED:20230510T024351Z
UID:3838-1699660800-1699747200@bhubaneswar.darshanacademy.org
SUMMARY:DIWALI
DESCRIPTION:
URL:https://bhubaneswar.darshanacademy.org/event/diwali/
CATEGORIES:HOLIDAY
END:VEVENT
BEGIN:VEVENT
DTSTART;TZID=America/Los_Angeles:20231110T000000
DTEND;TZID=America/Los_Angeles:20231110T000000
DTSTAMP:20260425T210803
CREATED:20230510T024351Z
LAST-MODIFIED:20230510T024351Z
UID:3837-1699574400-1699574400@bhubaneswar.darshanacademy.org
SUMMARY:DIWALI CELEBRATION (MOM & KIDS RANGOLI \,DIYA)
DESCRIPTION:
URL:https://bhubaneswar.darshanacademy.org/event/diwali-celebration-mom-kids-rangoli-diya/
CATEGORIES:EVENT
END:VEVENT
BEGIN:VEVENT
DTSTART;TZID=America/Los_Angeles:20231107T000000
DTEND;TZID=America/Los_Angeles:20231107T000000
DTSTAMP:20260425T210803
CREATED:20230510T024351Z
LAST-MODIFIED:20230510T024351Z
UID:3836-1699315200-1699315200@bhubaneswar.darshanacademy.org
SUMMARY:HANDWRITING COMPETITION(NUR\,LKG\,UKG)
DESCRIPTION:
URL:https://bhubaneswar.darshanacademy.org/event/handwriting-competitionnurlkgukg/
CATEGORIES:EVENT
END:VEVENT
BEGIN:VEVENT
DTSTART;TZID=America/Los_Angeles:20231103T000000
DTEND;TZID=America/Los_Angeles:20231103T000000
DTSTAMP:20260425T210803
CREATED:20230510T024351Z
LAST-MODIFIED:20230510T024351Z
UID:3835-1698969600-1698969600@bhubaneswar.darshanacademy.org
SUMMARY:VISIT TO SUPER MARKET (LKG\,UKG)
DESCRIPTION:
URL:https://bhubaneswar.darshanacademy.org/event/visit-to-super-market-lkgukg/
CATEGORIES:EVENT
END:VEVENT
BEGIN:VEVENT
DTSTART;TZID=America/Los_Angeles:20231028T000000
DTEND;TZID=America/Los_Angeles:20231028T000000
DTSTAMP:20260425T210803
CREATED:20230510T024351Z
LAST-MODIFIED:20230510T024351Z
UID:3834-1698451200-1698451200@bhubaneswar.darshanacademy.org
SUMMARY:FOURTH SATURDAY
DESCRIPTION:
URL:https://bhubaneswar.darshanacademy.org/event/fourth-saturday-4/
CATEGORIES:HOLIDAY
END:VEVENT
BEGIN:VEVENT
DTSTART;TZID=America/Los_Angeles:20231027T000000
DTEND;TZID=America/Los_Angeles:20231027T000000
DTSTAMP:20260425T210803
CREATED:20230510T024349Z
LAST-MODIFIED:20230510T024349Z
UID:3833-1698364800-1698364800@bhubaneswar.darshanacademy.org
SUMMARY:NATIONAL SPIRITUAL TALK FOR TEACHERS
DESCRIPTION:
URL:https://bhubaneswar.darshanacademy.org/event/national-spiritual-talk-for-teachers/
CATEGORIES:PROFESSIONAL DEVELOPMENT PROGRAMME
END:VEVENT
BEGIN:VEVENT
DTSTART;TZID=America/Los_Angeles:20231023T000000
DTEND;TZID=America/Los_Angeles:20231025T000000
DTSTAMP:20260425T210803
CREATED:20230510T024349Z
LAST-MODIFIED:20230510T024349Z
UID:3832-1698019200-1698192000@bhubaneswar.darshanacademy.org
SUMMARY:DUSHERA BREAK
DESCRIPTION:
URL:https://bhubaneswar.darshanacademy.org/event/dushera-break/
CATEGORIES:HOLIDAY
END:VEVENT
BEGIN:VEVENT
DTSTART;TZID=America/Los_Angeles:20231020T000000
DTEND;TZID=America/Los_Angeles:20231020T000000
DTSTAMP:20260425T210803
CREATED:20230510T024349Z
LAST-MODIFIED:20230510T024349Z
UID:3831-1697760000-1697760000@bhubaneswar.darshanacademy.org
SUMMARY:DANDIA CELEBRATION
DESCRIPTION:
URL:https://bhubaneswar.darshanacademy.org/event/dandia-celebration/
CATEGORIES:EVENT
END:VEVENT
BEGIN:VEVENT
DTSTART;TZID=America/Los_Angeles:20231013T000000
DTEND;TZID=America/Los_Angeles:20231013T000000
DTSTAMP:20260425T210803
CREATED:20230510T024349Z
LAST-MODIFIED:20230510T024349Z
UID:3830-1697155200-1697155200@bhubaneswar.darshanacademy.org
SUMMARY:GLOBAL HANDWASH DAY
DESCRIPTION:
URL:https://bhubaneswar.darshanacademy.org/event/global-handwash-day/
CATEGORIES:EVENT
END:VEVENT
BEGIN:VEVENT
DTSTART;TZID=America/Los_Angeles:20231002T000000
DTEND;TZID=America/Los_Angeles:20231002T000000
DTSTAMP:20260425T210803
CREATED:20230510T024349Z
LAST-MODIFIED:20230510T024349Z
UID:3829-1696204800-1696204800@bhubaneswar.darshanacademy.org
SUMMARY:GANDHI JAYANTI
DESCRIPTION:
URL:https://bhubaneswar.darshanacademy.org/event/gandhi-jayanti/
CATEGORIES:HOLIDAY
END:VEVENT
BEGIN:VEVENT
DTSTART;TZID=America/Los_Angeles:20230930T000000
DTEND;TZID=America/Los_Angeles:20230930T000000
DTSTAMP:20260425T210803
CREATED:20230510T024347Z
LAST-MODIFIED:20230510T024347Z
UID:3828-1696032000-1696032000@bhubaneswar.darshanacademy.org
SUMMARY:PTM
DESCRIPTION:
URL:https://bhubaneswar.darshanacademy.org/event/ptm-4/
CATEGORIES:PTM
END:VEVENT
BEGIN:VEVENT
DTSTART;TZID=America/Los_Angeles:20230929T000000
DTEND;TZID=America/Los_Angeles:20230929T000000
DTSTAMP:20260425T210803
CREATED:20230510T024347Z
LAST-MODIFIED:20230510T024347Z
UID:3827-1695945600-1695945600@bhubaneswar.darshanacademy.org
SUMMARY:GRAND PARENTS DAY
DESCRIPTION:
URL:https://bhubaneswar.darshanacademy.org/event/grand-parents-day/
CATEGORIES:EVENT
END:VEVENT
END:VCALENDAR